Package: GrafGen Version: 1.0.0 Command: F:\biocbuild\bbs-3.19-bioc\R\bin\R.exe CMD INSTALL GrafGen StartedAt: 2024-06-26 16:50:09 -0400 (Wed, 26 Jun 2024) EndedAt: 2024-06-26 16:50:54 -0400 (Wed, 26 Jun 2024) EllapsedTime: 45.1 seconds RetCode: 0 Status: OK