Package: GrafGen Version: 1.0.0 Command: chmod a+r GrafGen -R && E:\biocbuild\bbs-3.19-bioc\R\bin\R.exe CMD build --keep-empty-dirs --no-resave-data GrafGen StartedAt: 2024-10-16 19:32:51 -0400 (Wed, 16 Oct 2024) EndedAt: 2024-10-16 19:33:52 -0400 (Wed, 16 Oct 2024) EllapsedTime: 60.8 seconds RetCode: 0 Status: OK PackageFile: GrafGen_1.0.0.tar.gz PackageFileSize: 2.986 MiB