Package: GrafGen Version: 1.0.0 Command: E:\biocbuild\bbs-3.19-bioc\R\bin\R.exe CMD INSTALL GrafGen StartedAt: 2024-10-16 17:18:56 -0400 (Wed, 16 Oct 2024) EndedAt: 2024-10-16 17:19:38 -0400 (Wed, 16 Oct 2024) EllapsedTime: 42.2 seconds RetCode: 0 Status: OK