Package: Guitar Version: 2.20.0 Command: rm -rf Guitar.buildbin-libdir && mkdir Guitar.buildbin-libdir && /Users/biocbuild/BBS/utils/build-universal.sh Guitar_2.20.0.tar.gz /Library/Frameworks/R.framework/Resources/bin/R Guitar.buildbin-libdir StartedAt: 2024-10-18 18:51:26 -0400 (Fri, 18 Oct 2024) EndedAt: 2024-10-18 18:52:20 -0400 (Fri, 18 Oct 2024) EllapsedTime: 54.5 seconds RetCode: 0 Status: OK PackageFile: Guitar_2.20.0.tgz PackageFileSize: 3.783 MiB