Package: Guitar Version: 2.20.0 Command: /Library/Frameworks/R.framework/Resources/bin/R CMD INSTALL Guitar StartedAt: 2024-06-09 15:46:34 -0400 (Sun, 09 Jun 2024) EndedAt: 2024-06-09 15:47:32 -0400 (Sun, 09 Jun 2024) EllapsedTime: 57.9 seconds RetCode: 0 Status: OK