Package: Guitar Version: 2.20.0 Command: /Library/Frameworks/R.framework/Resources/bin/R CMD build --keep-empty-dirs --no-resave-data Guitar StartedAt: 2024-10-16 19:52:06 -0400 (Wed, 16 Oct 2024) EndedAt: 2024-10-16 20:18:49 -0400 (Wed, 16 Oct 2024) EllapsedTime: 1602.8 seconds RetCode: 0 Status: OK PackageFile: Guitar_2.20.0.tar.gz PackageFileSize: 3.719 MiB