Package: Guitar Version: 2.20.0 Command: rm -rf Guitar.buildbin-libdir && mkdir Guitar.buildbin-libdir && E:\biocbuild\bbs-3.19-bioc\R\bin\R.exe CMD INSTALL --build --library=Guitar.buildbin-libdir Guitar_2.20.0.tar.gz StartedAt: 2024-10-17 07:55:46 -0400 (Thu, 17 Oct 2024) EndedAt: 2024-10-17 07:56:30 -0400 (Thu, 17 Oct 2024) EllapsedTime: 44.3 seconds RetCode: 0 Status: OK PackageFile: Guitar_2.20.0.zip PackageFileSize: 3.71 MiB