Package: Gviz Version: 1.48.0 Command: /Library/Frameworks/R.framework/Resources/bin/R CMD build --keep-empty-dirs --no-resave-data Gviz StartedAt: 2024-10-16 19:52:21 -0400 (Wed, 16 Oct 2024) EndedAt: 2024-10-16 20:01:58 -0400 (Wed, 16 Oct 2024) EllapsedTime: 576.8 seconds RetCode: 0 Status: OK PackageFile: Gviz_1.48.0.tar.gz PackageFileSize: 7.778 MiB