Package: Gviz Version: 1.48.0 Command: /Library/Frameworks/R.framework/Resources/bin/R CMD INSTALL Gviz StartedAt: 2024-10-16 16:02:58 -0400 (Wed, 16 Oct 2024) EndedAt: 2024-10-16 16:05:21 -0400 (Wed, 16 Oct 2024) EllapsedTime: 142.8 seconds RetCode: 0 Status: OK