Package: HDF5Array Version: 1.32.1 Maintainer: Hervé Pagès MaintainerEmail: hpages.on.github at gmail.com git_url: https://git.bioconductor.org/packages/HDF5Array git_branch: RELEASE_3_19 git_last_commit: fa5a1d3 git_last_commit_date: 2024-08-10 02:28:31 -0400 (Sat, 10 Aug 2024)