Package: HDF5Array Version: 1.32.1 Command: /Library/Frameworks/R.framework/Resources/bin/R CMD build --keep-empty-dirs --no-resave-data HDF5Array StartedAt: 2024-10-17 02:13:29 -0400 (Thu, 17 Oct 2024) EndedAt: 2024-10-17 02:13:32 -0400 (Thu, 17 Oct 2024) EllapsedTime: 3.2 seconds RetCode: 0 Status: OK PackageFile: HDF5Array_1.32.1.tar.gz PackageFileSize: 7.726 MiB