Package: HDF5Array Version: 1.32.1 Command: /Library/Frameworks/R.framework/Resources/bin/R CMD check --install=check:HDF5Array.install-out.txt --library=/Library/Frameworks/R.framework/Resources/library --no-vignettes --timings HDF5Array_1.32.1.tar.gz StartedAt: 2024-10-18 00:19:42 -0400 (Fri, 18 Oct 2024) EndedAt: 2024-10-18 00:26:51 -0400 (Fri, 18 Oct 2024) EllapsedTime: 428.6 seconds RetCode: 0 Status: WARNINGS CheckDir: HDF5Array.Rcheck Warnings: 2