Package: HDF5Array Version: 1.32.1 Command: rm -rf HDF5Array.buildbin-libdir && mkdir HDF5Array.buildbin-libdir && /Users/biocbuild/BBS/utils/build-universal.sh HDF5Array_1.32.1.tar.gz /Library/Frameworks/R.framework/Resources/bin/R HDF5Array.buildbin-libdir StartedAt: 2024-10-17 16:20:19 -0400 (Thu, 17 Oct 2024) EndedAt: 2024-10-17 16:21:29 -0400 (Thu, 17 Oct 2024) EllapsedTime: 70.2 seconds RetCode: 0 Status: OK PackageFile: HDF5Array_1.32.1.tgz PackageFileSize: 10.91 MiB