Package: HDF5Array Version: 1.32.1 Command: /Library/Frameworks/R.framework/Resources/bin/R CMD check --install=check:HDF5Array.install-out.txt --library=/Library/Frameworks/R.framework/Resources/library --no-vignettes --timings HDF5Array_1.32.1.tar.gz StartedAt: 2024-10-17 06:32:18 -0400 (Thu, 17 Oct 2024) EndedAt: 2024-10-17 06:44:25 -0400 (Thu, 17 Oct 2024) EllapsedTime: 727.5 seconds RetCode: 0 Status: WARNINGS CheckDir: HDF5Array.Rcheck Warnings: 2