Package: HELP Version: 1.62.0 Maintainer: Reid F. Thompson MaintainerEmail: reid.thompson at gmail.com git_url: https://git.bioconductor.org/packages/HELP git_branch: RELEASE_3_19 git_last_commit: a4beffc git_last_commit_date: 2024-04-30 10:18:13 -0400 (Tue, 30 Apr 2024)