Package: HEM Version: 1.76.0 Command: /Library/Frameworks/R.framework/Resources/bin/R CMD check --install=check:HEM.install-out.txt --library=/Library/Frameworks/R.framework/Resources/library --no-vignettes --timings HEM_1.76.0.tar.gz StartedAt: 2024-10-17 06:34:04 -0400 (Thu, 17 Oct 2024) EndedAt: 2024-10-17 06:35:17 -0400 (Thu, 17 Oct 2024) EllapsedTime: 72.4 seconds RetCode: 0 Status: OK CheckDir: HEM.Rcheck Warnings: 0