Package: HEM Version: 1.76.0 Command: E:\biocbuild\bbs-3.19-bioc\R\bin\R.exe CMD INSTALL HEM StartedAt: 2024-10-16 16:01:54 -0400 (Wed, 16 Oct 2024) EndedAt: 2024-10-16 16:02:08 -0400 (Wed, 16 Oct 2024) EllapsedTime: 14.1 seconds RetCode: 0 Status: OK