Package: HIBAG Version: 1.40.0 Command: /Library/Frameworks/R.framework/Resources/bin/R CMD build --keep-empty-dirs --no-resave-data HIBAG StartedAt: 2024-06-09 22:50:21 -0400 (Sun, 09 Jun 2024) EndedAt: 2024-06-09 22:51:28 -0400 (Sun, 09 Jun 2024) EllapsedTime: 67.3 seconds RetCode: 0 Status: OK PackageFile: HIBAG_1.40.0.tar.gz PackageFileSize: 1.813 MiB