Package: HIBAG Version: 1.40.0 Command: /Library/Frameworks/R.framework/Resources/bin/R CMD build --keep-empty-dirs --no-resave-data HIBAG StartedAt: 2024-10-16 19:58:26 -0400 (Wed, 16 Oct 2024) EndedAt: 2024-10-16 20:00:15 -0400 (Wed, 16 Oct 2024) EllapsedTime: 109.6 seconds RetCode: 0 Status: OK PackageFile: HIBAG_1.40.0.tar.gz PackageFileSize: 1.813 MiB