Package: HIREewas Version: 1.22.0 Command: rm -rf HIREewas.buildbin-libdir && mkdir HIREewas.buildbin-libdir && /Users/biocbuild/BBS/utils/build-universal.sh HIREewas_1.22.0.tar.gz /Library/Frameworks/R.framework/Resources/bin/R HIREewas.buildbin-libdir StartedAt: 2024-10-18 18:56:11 -0400 (Fri, 18 Oct 2024) EndedAt: 2024-10-18 18:56:17 -0400 (Fri, 18 Oct 2024) EllapsedTime: 6.9 seconds RetCode: 0 Status: OK PackageFile: HIREewas_1.22.0.tgz PackageFileSize: 280.2 KiB