Package: HIREewas Version: 1.22.0 Command: /Library/Frameworks/R.framework/Resources/bin/R CMD build --keep-empty-dirs --no-resave-data HIREewas StartedAt: 2024-10-17 02:28:59 -0400 (Thu, 17 Oct 2024) EndedAt: 2024-10-17 02:29:59 -0400 (Thu, 17 Oct 2024) EllapsedTime: 59.7 seconds RetCode: 0 Status: OK PackageFile: HIREewas_1.22.0.tar.gz PackageFileSize: 265.8 KiB