Package: HIREewas Version: 1.22.0 Command: /Library/Frameworks/R.framework/Resources/bin/R CMD INSTALL HIREewas StartedAt: 2024-10-16 15:42:39 -0400 (Wed, 16 Oct 2024) EndedAt: 2024-10-16 15:42:50 -0400 (Wed, 16 Oct 2024) EllapsedTime: 10.2 seconds RetCode: 0 Status: OK