Package: HIREewas Version: 1.22.0 Command: /Library/Frameworks/R.framework/Resources/bin/R CMD build --keep-empty-dirs --no-resave-data HIREewas StartedAt: 2024-06-09 22:58:09 -0400 (Sun, 09 Jun 2024) EndedAt: 2024-06-09 23:00:00 -0400 (Sun, 09 Jun 2024) EllapsedTime: 111.5 seconds RetCode: 1 Status: ERROR PackageFile: None PackageFileSize: NA