Package: HIREewas Version: 1.22.0 Command: rm -rf HIREewas.buildbin-libdir && mkdir HIREewas.buildbin-libdir && /Users/biocbuild/BBS/utils/build-universal.sh HIREewas_1.22.0.tar.gz /Library/Frameworks/R.framework/Resources/bin/R HIREewas.buildbin-libdir StartedAt: 2024-05-27 01:41:27 -0400 (Mon, 27 May 2024) EndedAt: 2024-05-27 01:41:35 -0400 (Mon, 27 May 2024) EllapsedTime: 7.9 seconds RetCode: 0 Status: OK PackageFile: HIREewas_1.22.0.tgz PackageFileSize: 281 KiB