Package: HIREewas Version: 1.22.0 Command: /Library/Frameworks/R.framework/Resources/bin/R CMD build --keep-empty-dirs --no-resave-data HIREewas StartedAt: 2024-10-16 20:01:58 -0400 (Wed, 16 Oct 2024) EndedAt: 2024-10-16 20:04:39 -0400 (Wed, 16 Oct 2024) EllapsedTime: 160.5 seconds RetCode: 0 Status: OK PackageFile: HIREewas_1.22.0.tar.gz PackageFileSize: 265.8 KiB