Package: HIREewas Version: 1.22.0 Command: chmod a+r HIREewas -R && F:\biocbuild\bbs-3.19-bioc\R\bin\R.exe CMD build --keep-empty-dirs --no-resave-data HIREewas StartedAt: 2024-06-26 19:28:57 -0400 (Wed, 26 Jun 2024) EndedAt: 2024-06-26 19:30:12 -0400 (Wed, 26 Jun 2024) EllapsedTime: 75.3 seconds RetCode: 0 Status: OK PackageFile: HIREewas_1.22.0.tar.gz PackageFileSize: 266.1 KiB