Package: HIREewas Version: 1.22.0 Command: rm -rf HIREewas.buildbin-libdir && mkdir HIREewas.buildbin-libdir && E:\biocbuild\bbs-3.19-bioc\R\bin\R.exe CMD INSTALL --build --library=HIREewas.buildbin-libdir HIREewas_1.22.0.tar.gz StartedAt: 2024-10-17 07:57:45 -0400 (Thu, 17 Oct 2024) EndedAt: 2024-10-17 07:57:53 -0400 (Thu, 17 Oct 2024) EllapsedTime: 8.0 seconds RetCode: 0 Status: OK PackageFile: HIREewas_1.22.0.zip PackageFileSize: 292.7 KiB