Package: HIREewas Version: 1.22.0 Command: chmod a+r HIREewas -R && E:\biocbuild\bbs-3.19-bioc\R\bin\R.exe CMD build --keep-empty-dirs --no-resave-data HIREewas StartedAt: 2024-10-16 19:42:34 -0400 (Wed, 16 Oct 2024) EndedAt: 2024-10-16 19:44:00 -0400 (Wed, 16 Oct 2024) EllapsedTime: 86.2 seconds RetCode: 0 Status: OK PackageFile: HIREewas_1.22.0.tar.gz PackageFileSize: 267.4 KiB