Package: HIREewas Version: 1.22.0 Command: E:\biocbuild\bbs-3.19-bioc\R\bin\R.exe CMD INSTALL HIREewas StartedAt: 2024-10-16 16:03:07 -0400 (Wed, 16 Oct 2024) EndedAt: 2024-10-16 16:03:20 -0400 (Wed, 16 Oct 2024) EllapsedTime: 12.5 seconds RetCode: 0 Status: OK