Package: HMMcopy Version: 1.46.0 Command: /Library/Frameworks/R.framework/Resources/bin/R CMD build --keep-empty-dirs --no-resave-data HMMcopy StartedAt: 2024-10-17 02:29:44 -0400 (Thu, 17 Oct 2024) EndedAt: 2024-10-17 02:30:25 -0400 (Thu, 17 Oct 2024) EllapsedTime: 40.5 seconds RetCode: 0 Status: OK PackageFile: HMMcopy_1.46.0.tar.gz PackageFileSize: 1.77 MiB