Package: HMMcopy Version: 1.46.0 Command: /Library/Frameworks/R.framework/Resources/bin/R CMD build --keep-empty-dirs --no-resave-data HMMcopy StartedAt: 2024-06-09 22:59:42 -0400 (Sun, 09 Jun 2024) EndedAt: 2024-06-09 23:00:25 -0400 (Sun, 09 Jun 2024) EllapsedTime: 43.2 seconds RetCode: 0 Status: OK PackageFile: HMMcopy_1.46.0.tar.gz PackageFileSize: 1.783 MiB