Package: HMMcopy Version: 1.46.0 Command: rm -rf HMMcopy.buildbin-libdir && mkdir HMMcopy.buildbin-libdir && /Users/biocbuild/BBS/utils/build-universal.sh HMMcopy_1.46.0.tar.gz /Library/Frameworks/R.framework/Resources/bin/R HMMcopy.buildbin-libdir StartedAt: 2024-10-17 16:22:02 -0400 (Thu, 17 Oct 2024) EndedAt: 2024-10-17 16:22:13 -0400 (Thu, 17 Oct 2024) EllapsedTime: 10.9 seconds RetCode: 0 Status: OK PackageFile: HMMcopy_1.46.0.tgz PackageFileSize: 1.838 MiB