Package: HMMcopy Version: 1.46.0 Command: /Library/Frameworks/R.framework/Resources/bin/R CMD build --keep-empty-dirs --no-resave-data HMMcopy StartedAt: 2024-10-16 20:02:42 -0400 (Wed, 16 Oct 2024) EndedAt: 2024-10-16 20:03:46 -0400 (Wed, 16 Oct 2024) EllapsedTime: 63.9 seconds RetCode: 0 Status: OK PackageFile: HMMcopy_1.46.0.tar.gz PackageFileSize: 1.778 MiB