Package: HMMcopy Version: 1.46.0 Command: /home/biocbuild/bbs-3.19-bioc/R/bin/R CMD build --keep-empty-dirs --no-resave-data HMMcopy StartedAt: 2024-10-16 18:59:14 -0400 (Wed, 16 Oct 2024) EndedAt: 2024-10-16 18:59:29 -0400 (Wed, 16 Oct 2024) EllapsedTime: 15.0 seconds RetCode: 0 Status: OK PackageFile: HMMcopy_1.46.0.tar.gz PackageFileSize: 1.729 MiB