Package: HPAanalyze Version: 1.22.0 Command: rm -rf HPAanalyze.buildbin-libdir && mkdir HPAanalyze.buildbin-libdir && /Users/biocbuild/BBS/utils/build-universal.sh HPAanalyze_1.22.0.tar.gz /Library/Frameworks/R.framework/Resources/bin/R HPAanalyze.buildbin-libdir StartedAt: 2024-10-18 18:56:32 -0400 (Fri, 18 Oct 2024) EndedAt: 2024-10-18 18:57:36 -0400 (Fri, 18 Oct 2024) EllapsedTime: 63.9 seconds RetCode: 0 Status: OK PackageFile: HPAanalyze_1.22.0.tgz PackageFileSize: 7.027 MiB