Package: HPAanalyze Version: 1.22.0 Command: /home/biocbuild/bbs-3.19-bioc/R/bin/R CMD INSTALL HPAanalyze StartedAt: 2024-10-16 16:42:19 -0400 (Wed, 16 Oct 2024) EndedAt: 2024-10-16 16:42:39 -0400 (Wed, 16 Oct 2024) EllapsedTime: 19.5 seconds RetCode: 0 Status: OK