Package: Harman Version: 1.32.0 Command: chmod a+r Harman -R && E:\biocbuild\bbs-3.19-bioc\R\bin\R.exe CMD build --keep-empty-dirs --no-resave-data Harman StartedAt: 2024-10-16 19:39:00 -0400 (Wed, 16 Oct 2024) EndedAt: 2024-10-16 19:42:13 -0400 (Wed, 16 Oct 2024) EllapsedTime: 192.6 seconds RetCode: 0 Status: OK PackageFile: Harman_1.32.0.tar.gz PackageFileSize: 843.7 KiB