Package: Harman Version: 1.32.0 Command: E:\biocbuild\bbs-3.19-bioc\R\bin\R.exe CMD INSTALL Harman StartedAt: 2024-10-16 16:04:54 -0400 (Wed, 16 Oct 2024) EndedAt: 2024-10-16 16:05:12 -0400 (Wed, 16 Oct 2024) EllapsedTime: 18.4 seconds RetCode: 0 Status: OK