Package: Heatplus Version: 3.12.0 Maintainer: Alexander Ploner MaintainerEmail: Alexander.Ploner at ki.se git_url: https://git.bioconductor.org/packages/Heatplus git_branch: RELEASE_3_19 git_last_commit: 8a9389c git_last_commit_date: 2024-04-30 10:15:16 -0400 (Tue, 30 Apr 2024)