Package: Heatplus Version: 3.12.0 Command: /Library/Frameworks/R.framework/Resources/bin/R CMD check --install=check:Heatplus.install-out.txt --library=/Library/Frameworks/R.framework/Resources/library --no-vignettes --timings Heatplus_3.12.0.tar.gz StartedAt: 2024-06-09 20:50:42 -0400 (Sun, 09 Jun 2024) EndedAt: 2024-06-09 20:51:14 -0400 (Sun, 09 Jun 2024) EllapsedTime: 31.7 seconds RetCode: 0 Status: OK CheckDir: Heatplus.Rcheck Warnings: 0