Package: Heatplus Version: 3.12.0 Command: /Library/Frameworks/R.framework/Resources/bin/R CMD INSTALL Heatplus StartedAt: 2024-10-16 15:06:37 -0400 (Wed, 16 Oct 2024) EndedAt: 2024-10-16 15:06:51 -0400 (Wed, 16 Oct 2024) EllapsedTime: 14.9 seconds RetCode: 0 Status: OK