Package: Heatplus Version: 3.12.0 Command: /home/biocbuild/bbs-3.19-bioc/R/bin/R CMD build --keep-empty-dirs --no-resave-data Heatplus StartedAt: 2024-10-16 18:55:15 -0400 (Wed, 16 Oct 2024) EndedAt: 2024-10-16 18:55:32 -0400 (Wed, 16 Oct 2024) EllapsedTime: 17.0 seconds RetCode: 0 Status: OK PackageFile: Heatplus_3.12.0.tar.gz PackageFileSize: 856.9 KiB