Package: Heatplus Version: 3.12.0 Command: rm -rf Heatplus.buildbin-libdir && mkdir Heatplus.buildbin-libdir && E:\biocbuild\bbs-3.19-bioc\R\bin\R.exe CMD INSTALL --build --library=Heatplus.buildbin-libdir Heatplus_3.12.0.tar.gz StartedAt: 2024-10-17 07:56:40 -0400 (Thu, 17 Oct 2024) EndedAt: 2024-10-17 07:56:49 -0400 (Thu, 17 Oct 2024) EllapsedTime: 9.2 seconds RetCode: 0 Status: OK PackageFile: Heatplus_3.12.0.zip PackageFileSize: 950 KiB