Package: Heatplus Version: 3.12.0 Command: chmod a+r Heatplus -R && E:\biocbuild\bbs-3.19-bioc\R\bin\R.exe CMD build --keep-empty-dirs --no-resave-data Heatplus StartedAt: 2024-10-16 19:39:59 -0400 (Wed, 16 Oct 2024) EndedAt: 2024-10-16 19:40:28 -0400 (Wed, 16 Oct 2024) EllapsedTime: 28.9 seconds RetCode: 0 Status: OK PackageFile: Heatplus_3.12.0.tar.gz PackageFileSize: 860.9 KiB