Package: HiCExperiment Version: 1.4.0 Command: /home/biocbuild/bbs-3.19-bioc/R/bin/R CMD INSTALL HiCExperiment StartedAt: 2024-10-16 16:06:33 -0400 (Wed, 16 Oct 2024) EndedAt: 2024-10-16 16:07:01 -0400 (Wed, 16 Oct 2024) EllapsedTime: 28.5 seconds RetCode: 0 Status: OK