Package: HiCExperiment Version: 1.4.0 Command: chmod a+r HiCExperiment -R && E:\biocbuild\bbs-3.19-bioc\R\bin\R.exe CMD build --keep-empty-dirs --no-resave-data HiCExperiment StartedAt: 2024-10-16 19:41:39 -0400 (Wed, 16 Oct 2024) EndedAt: 2024-10-16 19:45:58 -0400 (Wed, 16 Oct 2024) EllapsedTime: 259.5 seconds RetCode: 0 Status: OK PackageFile: HiCExperiment_1.4.0.tar.gz PackageFileSize: 1011 KiB