Package: HiContacts Version: 1.6.0 Command: /Library/Frameworks/R.framework/Resources/bin/R CMD check --install=check:HiContacts.install-out.txt --library=/Library/Frameworks/R.framework/Resources/library --no-vignettes --timings HiContacts_1.6.0.tar.gz StartedAt: 2024-10-18 00:32:23 -0400 (Fri, 18 Oct 2024) EndedAt: 2024-10-18 00:44:08 -0400 (Fri, 18 Oct 2024) EllapsedTime: 705.0 seconds RetCode: 0 Status: OK CheckDir: HiContacts.Rcheck Warnings: 0