Package: HiContacts Version: 1.6.0 Command: /Library/Frameworks/R.framework/Resources/bin/R CMD build --keep-empty-dirs --no-resave-data HiContacts StartedAt: 2024-06-09 22:53:41 -0400 (Sun, 09 Jun 2024) EndedAt: 2024-06-09 23:01:51 -0400 (Sun, 09 Jun 2024) EllapsedTime: 489.4 seconds RetCode: 0 Status: OK PackageFile: HiContacts_1.6.0.tar.gz PackageFileSize: 5.377 MiB