Package: HiContacts Version: 1.6.0 Command: rm -rf HiContacts.buildbin-libdir && mkdir HiContacts.buildbin-libdir && /Users/biocbuild/BBS/utils/build-universal.sh HiContacts_1.6.0.tar.gz /Library/Frameworks/R.framework/Resources/bin/R HiContacts.buildbin-libdir StartedAt: 2024-06-10 00:22:09 -0400 (Mon, 10 Jun 2024) EndedAt: 2024-06-10 00:22:51 -0400 (Mon, 10 Jun 2024) EllapsedTime: 41.8 seconds RetCode: 0 Status: OK PackageFile: HiContacts_1.6.0.tgz PackageFileSize: 5.529 MiB