Package: HiContacts Version: 1.6.0 Command: /Library/Frameworks/R.framework/Resources/bin/R CMD check --install=check:HiContacts.install-out.txt --library=/Library/Frameworks/R.framework/Resources/library --no-vignettes --timings HiContacts_1.6.0.tar.gz StartedAt: 2024-10-17 06:40:19 -0400 (Thu, 17 Oct 2024) EndedAt: 2024-10-17 06:59:15 -0400 (Thu, 17 Oct 2024) EllapsedTime: 1135.9 seconds RetCode: 0 Status: OK CheckDir: HiContacts.Rcheck Warnings: 0